BEGIN:VCALENDAR
VERSION:2.0
PRODID:-//singalongwithellie - ECPv6.9.0//NONSGML v1.0//EN
CALSCALE:GREGORIAN
METHOD:PUBLISH
X-WR-CALNAME:singalongwithellie
X-ORIGINAL-URL:https://singalongwithellie.com
X-WR-CALDESC:Events for singalongwithellie
REFRESH-INTERVAL;VALUE=DURATION:PT1H
X-Robots-Tag:noindex
X-PUBLISHED-TTL:PT1H
BEGIN:VTIMEZONE
TZID:Europe/London
BEGIN:DAYLIGHT
TZOFFSETFROM:+0000
TZOFFSETTO:+0100
TZNAME:BST
DTSTART:20260329T010000
END:DAYLIGHT
BEGIN:STANDARD
TZOFFSETFROM:+0100
TZOFFSETTO:+0000
TZNAME:GMT
DTSTART:20261025T010000
END:STANDARD
END:VTIMEZONE
BEGIN:VEVENT
DTSTART;TZID=Europe/London:20260421T133000
DTEND;TZID=Europe/London:20260421T150000
DTSTAMP:20260421T103705
CREATED:20260107T164308Z
LAST-MODIFIED:20260107T164308Z
UID:2221-1776778200-1776783600@singalongwithellie.com
SUMMARY:Sing Along With Ellie - Eastwood
DESCRIPTION:Our Singing for the Brain Group meet 1:30pm until 3pm once a month at Plumptre Hall. Everyone is welcome to our friendly group\, including those who are living with Dementia. We sing\, we laugh with new and old friends. Refreshments and biscuits included in the £5 entrance fee.  Additional Carers fee is £2.50 including refreshments and biscuits.
URL:https://singalongwithellie.com/event/sing-along-with-ellie-eastwood-3/
END:VEVENT
END:VCALENDAR